BEGIN:VCALENDAR
VERSION:2.0
PRODID:-//Hasborn-Dautweiler-Aktuell - ECPv6.15.20//NONSGML v1.0//EN
CALSCALE:GREGORIAN
METHOD:PUBLISH
X-WR-CALNAME:Hasborn-Dautweiler-Aktuell
X-ORIGINAL-URL:https://www.hasborn-dautweiler-aktuell.de
X-WR-CALDESC:Veranstaltungen im Hasborn-Dautweiler-Aktuell
REFRESH-INTERVAL;VALUE=DURATION:PT1H
X-Robots-Tag:noindex
X-PUBLISHED-TTL:PT1H
BEGIN:VTIMEZONE
TZID:Europe/Berlin
BEGIN:DAYLIGHT
TZOFFSETFROM:+0100
TZOFFSETTO:+0200
TZNAME:CEST
DTSTART:20220327T010000
END:DAYLIGHT
BEGIN:STANDARD
TZOFFSETFROM:+0200
TZOFFSETTO:+0100
TZNAME:CET
DTSTART:20221030T010000
END:STANDARD
BEGIN:DAYLIGHT
TZOFFSETFROM:+0100
TZOFFSETTO:+0200
TZNAME:CEST
DTSTART:20230326T010000
END:DAYLIGHT
BEGIN:STANDARD
TZOFFSETFROM:+0200
TZOFFSETTO:+0100
TZNAME:CET
DTSTART:20231029T010000
END:STANDARD
BEGIN:DAYLIGHT
TZOFFSETFROM:+0100
TZOFFSETTO:+0200
TZNAME:CEST
DTSTART:20240331T010000
END:DAYLIGHT
BEGIN:STANDARD
TZOFFSETFROM:+0200
TZOFFSETTO:+0100
TZNAME:CET
DTSTART:20241027T010000
END:STANDARD
END:VTIMEZONE
BEGIN:VEVENT
DTSTART;TZID=Europe/Berlin:20231025T170000
DTEND;TZID=Europe/Berlin:20231025T180000
DTSTAMP:20260419T180512
CREATED:20231018T142543Z
LAST-MODIFIED:20231018T142741Z
UID:16972-1698253200-1698256800@www.hasborn-dautweiler-aktuell.de
SUMMARY:Neuer Nachmittagskurs Gedächtnistraining !
DESCRIPTION:_ie ha_en Spa_ durch ei_fache Auf_aben u_d auf l_stige\, spi_lerisc_e We_se ihr Ge_ächtnis auf Trapp z_ ha_lten und f_t zu bl_iben? \nUnabhängig von Alter und Wissen trainieren wir in diesem Kurs unsere „grauen Zellen“. \nInformationsverarbeitungsgeschwindigkeit\, Merkspanne und die Basislerngeschwindigkeit sind die 3 Säulen des Arbeitsgedächtnisses auf das durch ausgewählte Übungen besonderes Augenmerk gelegt wird. Ein funktionierendes Arbeitsgedächtnis ist der Schlüssel zur Sicherheit im Alltag und vieles andere. Sie trainieren u.a. auch ihre Konzentration\, lernen Merktechniken kennen und erlernen Übungen wie sie auch weiter ihr Hirn zu Hause fit halten können. \nGebrauchen Sie ihr Gehirn damit es nicht einrostet! \nDer Kurs richtet sich an alle Interessierte jeden Alters und findet in den Räumen des DRK Hasborn\, am Waldstadion 12a\, statt. Er beginnt am Mittwoch 25.10.2023 um 17 Uhr und umfasst 8 x 1h im wöchentlichen Rhythmus. \nDie Kursgebühr beträgt 50 Euro inkl. aller Materialkosten. Für Mitglieder des DRK ermäßigt 40 Euro. \nDie Teilnehmerzahl ist auf 12 begrenzt. \nNähere Informationen und Anmeldung: DRK OV Hasborn\, Annegret Hornberger 06853-892942\, Gedächtnistrainerin des DRK
URL:https://www.hasborn-dautweiler-aktuell.de/event/neuer-nachmittagskurs-gedaechtnistraining-startet-am-25-10-23/
LOCATION:DRK Heim\, Am Waldstadion 12A\, Hasborn\, 66636
ATTACH;FMTTYPE=image/jpeg:https://www.hasborn-dautweiler-aktuell.de/wp-content/uploads/sites/63/2023/10/Gehirn.jpg
END:VEVENT
END:VCALENDAR